BEGIN:VCALENDAR
VERSION:2.0
PRODID:-//Hong Kong International Coaching Community - ECPv6.15.20//NONSGML v1.0//EN
CALSCALE:GREGORIAN
METHOD:PUBLISH
X-ORIGINAL-URL:https://coachinghk.com
X-WR-CALDESC:Events for Hong Kong International Coaching Community
REFRESH-INTERVAL;VALUE=DURATION:PT1H
X-Robots-Tag:noindex
X-PUBLISHED-TTL:PT1H
BEGIN:VTIMEZONE
TZID:Asia/Hong_Kong
BEGIN:STANDARD
TZOFFSETFROM:+0800
TZOFFSETTO:+0800
TZNAME:HKT
DTSTART:20240101T000000
END:STANDARD
END:VTIMEZONE
BEGIN:VEVENT
DTSTART;TZID=Asia/Hong_Kong:20250318T190000
DTEND;TZID=Asia/Hong_Kong:20250318T203000
DTSTAMP:20260423T132910
CREATED:20250226T011455Z
LAST-MODIFIED:20250318T060019Z
UID:10000033-1742324400-1742329800@coachinghk.com
SUMMARY:From Passion to Practice: Navigating Your Coaching Path with Confidence on 18 Mar 2025\, 7:00pm - 8:30pm
DESCRIPTION:From Passion to Practice: Navigating Your Coaching Path with Confidence\nDate: 18 Mar 2025 | Time: 7pm to 8:30pm |  \nVenue: Love Express\, 12/F Amber Commercial Building\, 70-74 Morrison Hill Road\, Causeway Bay\, HK \n  \nAre you a new coach excited about the opportunities ahead? If you’re looking to confidently apply your coaching skills\, gain clarity on what coaching truly means in practice\, explore the journey to becoming a hybrid or full-time coach or bring coaching alive in your workplace\, this session is perfect for you! \nJoin us for a fruitful evening where experienced coaches share their unique journeys and insights. Discover how they navigated their paths\, found their authentic coaching style\, and built successful practices. You’ll gain valuable perspectives on different coaching approaches\, learn about essential resources\, and understand the mindsets that contribute to coaching success. \nThis panel discussion will help you explore the various possibilities in your coaching journey\, whether you’re aiming for a career transition or looking to integrate coaching skills into your current role. Get practical tips\, connect with fellow coaches\, and gain clarity on your next steps in the coaching world. \nModerator and Panel Speakers: \nModerator: Season Lai \nPanel Speakers: John Azzo\, Sally Dellow\, Samantha Pei\, Steve Wu \n  \nModerator \nSeason Lai\, is a transformative coach with three years of coaching experience working with NGOs and nurturing young leaders. She is on a mission to help people progress towards joyful living and working. She is passionate about empowering people to visualize their dream life and setting up the right support system to make it possible. \n  \nSpeakers \nJohn Azzo is an Executive Coach and ICF PCC credential holder with over 20 years of experience in trading and manufacturing industries. Based in China for 16+ years\, he specializes in helping executives navigate business challenges\, intercultural communication\, and high-pressure situations. As a Certified 6 Seconds Emotional Intelligence Practitioner and CBT/REBT Practitioner\, he combines multiple coaching approaches to support clients in gaining clarity and taking effective action. John has coached leaders across 20+ nationalities in industries including pharmaceuticals\, IT\, logistics\, banking\, and FMCG. He is also a co-founder of betterme.community\, where he develops practical tools to support individuals in their self-awareness and change journey. \nSally Dellow is an Executive Coach\, Facilitator and specialist in Theatre-Led Learning. Based in Asia for over 35 years she founded Dramatic Difference some 20 years ago. She’s a passionate advocate for inclusive leadership and the role of coaching and dialogue skills in creating psychological safety. Sally’s practice crosses industries (from Tech to Law to Luxury Fashion) but tends to focus around C-suite and senior management. She also coaches several business schools. Sally is also a parent\, poet\, scuba diver\, Francophile and ravenous reader of novels. \nSamantha Pei is an EMCC Accredited Coach/Mentor at the Practitioner level and an ICF ACC\, passionate about transforming individuals through corporate wellness and personal growth. As a Corporate Wellness Consultant\, Trainer\, Coach and Mentor\, she integrates her expertise as a LEGO® SERIOUS PLAY® Facilitator\, Aromatherapist\, Stretching Instructor\, UNSDGs Certified Teacher to serve clients from diverse cultural backgrounds across various industries. Along with thought-provoking questions\, she skillfully integrates tools like LEGO® bricks\, visual insight cards\, essential oils\, to fosters deep reflection and new awareness on clients’ transformative journeys. With a strong background in banking and degrees in business\, she enriches her coaching with practical insights\, empowering clients to achieve their wellness and development goals. \nSteve Wu is an Executive Coach and I/O Psychologist who helps ambitious professionals discover and fulfill their potential. Grounded in his passion for human behavior\, psychology studies\, and ICF-accredited coaching training\, he guides clients in clarifying goals\, overcoming obstacles\, and expanding self-awareness. Drawing on Acceptance and Commitment Therapy (ACT)\, Internal Family Systems (IFS)\, and psychometric assessments\, Steve fast-tracks insight and growth for leaders across diverse industries. He has also co-designed and facilitated “leaders-as-coaches” training in Hong Kong and Australia\, fostering transformative results for professionals worldwide. \nDate: 18 Mar 2025 (Tuesday) \nTime: 7:00 p.m. – 8:30 p.m. \nVenue: Love Express\, 12/F Amber Commercial Building\, 70-74 Morrison Hill Road\, Causeway Bay\, HK (7 minutes walk from Causeway Bay MRT Station Exit A) \nFee: \n\n\n\nTicket Type\nEarly bird (by 4 Mar)\nRegular Price\n\n\nIndividual\nTickets for 2 (10% off)\nIndividual\nTickets for 2 (10% off)\n\n\nHKICC Members\n$120\n$216\n$150\n$270\n\n\nNon-HKICC Members\n$200\n$360\n$250\n$450\n\n\n\nDon’t miss this opportunity to gain clarity on your coaching path and connect with fellow coaching professionals!
URL:https://coachinghk.com/event/from-passion-to-practice-navigating-your-coaching-path-with-confidence-on-18-mar-2025-700pm-830pm/
LOCATION:Love Express\, 12/F Amber Commercial Building\, 70-74 Morrison Hill Road\, Causeway Bay\, HK\, Love Express\, 12/F Amber Commercial Building\, 70-74 Morrison Hill Road\, Causeway Bay\, Hong Kong\, Hong Kong
CATEGORIES:Coach Development
ATTACH;FMTTYPE=image/png:https://coachinghk.com/wp-content/uploads/2025/02/c98807d6-5e76-1de0-32eb-f124e2098a13.png
ORGANIZER;CN="HKICC":MAILTO:info@coachinghk.com
END:VEVENT
END:VCALENDAR