BEGIN:VCALENDAR
VERSION:2.0
PRODID:-//Hong Kong International Coaching Community - ECPv6.15.20//NONSGML v1.0//EN
CALSCALE:GREGORIAN
METHOD:PUBLISH
X-ORIGINAL-URL:https://coachinghk.com
X-WR-CALDESC:Events for Hong Kong International Coaching Community
REFRESH-INTERVAL;VALUE=DURATION:PT1H
X-Robots-Tag:noindex
X-PUBLISHED-TTL:PT1H
BEGIN:VTIMEZONE
TZID:Asia/Hong_Kong
BEGIN:STANDARD
TZOFFSETFROM:+0800
TZOFFSETTO:+0800
TZNAME:HKT
DTSTART:20220101T000000
END:STANDARD
END:VTIMEZONE
BEGIN:VEVENT
DTSTART;TZID=Asia/Hong_Kong:20231116T120000
DTEND;TZID=Asia/Hong_Kong:20231116T140000
DTSTAMP:20260426T123414
CREATED:20231016T132208Z
LAST-MODIFIED:20231030T132056Z
UID:10000018-1700136000-1700143200@coachinghk.com
SUMMARY:Coaching Lab – A Playspace for Coaching Practices  Presented by HKICC in collaboration with HCC Global on 16 Nov 2023 from 12:00 pm to 2:00 pm
DESCRIPTION:Coaching Lab – A Playspace for Coaching Practices \nPresented by\nHKICC in collaboration with HCC Global\n  \nNov 16\, 2023 Thursday 12:00pm – 2:00pm \nOnline Zoom Conference \nJoin Coaching Lab for serious play and coaching practice! \nif you… \n\nhave practised coaching for a while and are looking for feedback on your coaching…\nare looking for a safe learning space to experiment with new coaching models and approaches…\nwant to meet up with a community of exceptional coaches…\nare an experienced coach that would like to develop your mentor coaching skills…\nor just want to get some more deliberate coaching practice…\n\nAbout this event:\n \nCoaching Lab is a 2-hour playspace for coaching practice and learning for coaches. We aim to bring together exceptional coaches to this space to co-create sparks that are valuable for your growth. We are happy to have Henry Chamberlain\, the Managing Director of HCC Global Limited\, as the facilitator of the event.\n \nWhy Coaching Labs?\n \nAs coaches\, we need to hone our skills constantly. However\, sometimes it is hard for us to get good practice partners\, or quality and practical feedback on our coaching. Coaching Lab aims to address these challenges. In this coaching playspace\, participants will work in groups of three. You will get the opportunity to coach\, be coached and be a coaching learning partner. As the name implies\, Coaching Lab is also a space for you to play and experiment with new models or approaches on coaches in the community. You can press “redo” or “time-out” if you feel stuck or lost. Although we allow a wild mix of “chemistry” to happen in the Lab\, the rule is to engage with compassion and have fun!\n \nSession Format\n \n• 20 minutes Welcoming and Introduction (in the main room):\n  – Henry will introduce “sticky note coaching” and you can decide whether you want to experiment with this coaching approach in \n     your session\n\n• 3 x 30 minutes Coaching Practice + Feedback (in breakout rooms): Maximum of 20 minutes coaching\, 10 minutes feedback. Facilitators will stay in the main room and can be called upon/invited into breakout rooms if necessary. You will be the coach\, coachee\, and observer in turn. \n• 5 Minutes Group Debriefing: Group debriefing in the main room sharing insights and experiences and closing the learning session. \nFacilitator\nHenry is an internationally experienced psychologist and executive coach (PCC)\, with a track record of successfully transforming CEOs and senior executives across the globe. As the former Group Head of Selection at Standard Chartered Bank and Consulting Director at SHL Hong Kong\, his experience provides him with exceptional insights into the challenges of optimal human performance. He established HCC Global Limited in 2011 to transform coaching. Henry’s main areas of expertise include executive coaching\, training and supervising professional coaches and training leaders-as-coaches\, leadership development\, psychological assessment\, and organizational development. \n  \nRegistration\nPlease register at least 24 hours ahead of the event for ease of administration. Once you register\, please attend or make cancellation as early as possible. \nDate: 16 Nov 2023 (Thurs)\nTime: 12:00p.m. – 2:00pm\nFormat: Online Zoom (link will be sent out one day prior to event date) \nEarly Bird Fee: signing up on or before 31 Oct\, 2023\nHKICC Premium Members : HK$100\nHKICC Standard Members : HK$150\nNon-HKICC Members : HK$200\n \nSigning up on or after 1 Nov\, 2023\nHKICC Premium Members : HK$150\nHKICC Standard Members : HK$200\nNon-HKICC Members : HK$250 \n For any enquirers\, please contact Nicholas Wai (nickwai@coachesphere.com)
URL:https://coachinghk.com/event/coaching-lab-a-playspace-for-coaching-practices-presented-by-hkicc-in-collaboration-with-hcc-global-on-16-nov-2023-from-1200-pm-to-200-pm/
CATEGORIES:Coach Development,Events calender
ATTACH;FMTTYPE=image/png:https://coachinghk.com/wp-content/uploads/2023/10/1116.png
ORGANIZER;CN="HKICC":MAILTO:info@coachinghk.com
END:VEVENT
END:VCALENDAR