BEGIN:VCALENDAR
VERSION:2.0
PRODID:-//Hong Kong International Coaching Community - ECPv6.15.20//NONSGML v1.0//EN
CALSCALE:GREGORIAN
METHOD:PUBLISH
X-ORIGINAL-URL:https://coachinghk.com
X-WR-CALDESC:Events for Hong Kong International Coaching Community
REFRESH-INTERVAL;VALUE=DURATION:PT1H
X-Robots-Tag:noindex
X-PUBLISHED-TTL:PT1H
BEGIN:VTIMEZONE
TZID:Asia/Hong_Kong
BEGIN:STANDARD
TZOFFSETFROM:+0800
TZOFFSETTO:+0800
TZNAME:HKT
DTSTART:20230101T000000
END:STANDARD
END:VTIMEZONE
BEGIN:VEVENT
DTSTART;TZID=Asia/Hong_Kong:20240605T170000
DTEND;TZID=Asia/Hong_Kong:20240605T200000
DTSTAMP:20260425T231016
CREATED:20240514T021823Z
LAST-MODIFIED:20240514T021917Z
UID:10000022-1717606800-1717617600@coachinghk.com
SUMMARY:HKICC 2024 (almost) Summer Drink on 5 Jun 2024\, 5:00pm to 8:00pm
DESCRIPTION:HKICC 2024 (almost) Summer Drink  \nJun 5\, 2024 Wednesday 5:00pm – 8:00pm \nVenue : Power A Space\n4/F Tung Yip Commercial Building\, 244-248 Des Voeux Road Central\,  \nSheung Wan\, Hong Kong  \n(Sheung Wan MTR exit A1)  \n  \nIt’s almost Summer and it’s time for a drink with your fellow community members! You might have felt HKICC has been a bit quiet this year so far but it has been hot in the kitchen and we are now ready to tell you all about it. Come and enjoy wine and cheese while learning more about what HKICC has been up to. \n\nGet excited about our new Ecosystem & Stakeholder-minded Vision and Mission and your role in them \nCo-create our agenda in Spreading Coaching Mindset starting with 3 key focuses (Education\, SMEs and Leaders as Coach)\nTransform yourself in our newly-minted Coaching Life Cycle series that aim to get your more coaching-business savvy \nNetworking with the greater community to celebrate the next chapter of HKICC\n\nSecure your spot now. Limited to 30 pax\, available on a first-come\, first-served basis \nDate: 5 Jun 2024 (Wed)\nTime: 5:00p.m. – 8:00 p.m.\nVenue: Power A Space – 4/F Tung Yip Commercial Building\, 244-248 Des Voeux Road Central\, Sheung Wan\, Hong Kong (Sheung Wan MTR exit A1) \nFee: Early Bird\, on or before 22 May 2024 \nHKICC Members : HK$350 (Early Bird HK$300) \nNon-HKICC Members : HK$450 (Early Bird HK$400)
URL:https://coachinghk.com/event/hkicc-2024-almost-summer-drink-on-5-jun-2024-500pm-to-800pm/
LOCATION:Power A Space\, 4/F Tung Hip Commercial Building\, 244-248 Des Voeux Road Central\, Sheung Wan\, Hong Kong
CATEGORIES:Coach Development,Events calender
ATTACH;FMTTYPE=image/png:https://coachinghk.com/wp-content/uploads/2024/05/18cf936f-5bbd-f7d4-0bf6-13dbf8c59d9b.png
ORGANIZER;CN="HKICC":MAILTO:info@coachinghk.com
END:VEVENT
BEGIN:VEVENT
DTSTART;TZID=Asia/Hong_Kong:20240612T183000
DTEND;TZID=Asia/Hong_Kong:20240612T203000
DTSTAMP:20260425T231016
CREATED:20240528T065826Z
LAST-MODIFIED:20240605T102900Z
UID:10000023-1718217000-1718224200@coachinghk.com
SUMMARY:The Buying\, Selling and Benefitting from Team Coaching.  What is all the Excitement about? on 12 Jun 2024\, 6:30 pm - 8:30 pm
DESCRIPTION:The Buying\, Selling and Benefitting from Team Coaching. \nWhat is all the Excitement about? \nJun 12\, 2024 Wednesday 6:30pm – 8:30pm \nVenue : Happy Moment – 6/F\, Infinitus Plaza\,\n199 Des Voeux Road Central\, Hong Kong\n(Sheung Wan MTR Exit E) \n  \nGet a behind-the-door view of how team coaching as a service is being bought\, sold and creating value for a wide variety of organisations. We will explore the evolution of team coaching from the perspective of organisations who are investing in it\, and teams\, team leaders and coaches who are pioneering in this fast developing and complex professional space. \nTakeaways:\n\nLearn why\, how and when team coaching is the intervention of choice\nGain evidence-based insights into team performance\, and formation and development for team leaders and team members\nUnderstand how to enhance your work with teams through learning about the business and practical aspects of team coaching\n\nTarget audience:\n\nHR\, L&D\nteam leaders\, leaders of teams of teams\,\ncoaches\, team coaches\, facilitators\, consultants and\nanyone who is interested in team development\n\nSpeaker\nCraig McKenzie is a global authority for team coaching.  His extensive global experience leading and working with top teams\, boards and mission critical teams combined with his team coach education experience has given him unique insights into the many facets of team coaching.  As part of his director role with Transcend International he leads the team coaching practice and team coaching education\, and delivers global team coaching programmes through their partnership with Clutterbuck Coaching and Mentoring International.  He is accredited as an EMCC Senior Practitioner coach\, team coach\, and supervisor and holds an ICF PCC. He is a former HKICC VP Coach Development\, EMCC Asia Pacific founding member and ICFHK Charter Chapter Past President.  \n \nDate: 12 Jun 2024 (Wed)\nTime: 6:30p.m. – 8:30 p.m.\nVenue: Happy Moment – 6/F\, Infinitus Plaza\, 199 Des Voeux Road Central\, Hong Kong (Sheung Wan MTR Exit E)\nFee: Early Bird\, on or before 29 May 2024 \nHKICC Members : HK$120 (Early Bird HK$100) \nNon-HKICC Members : HK$250 (Early Bird HK$200) \n  \nImage Source: https://optify.io/2021/07/14/your-checklist-for-strategic-alignment-in-your-coaching-business/
URL:https://coachinghk.com/event/the-buying-selling-and-benefitting-from-team-coaching-what-is-all-the-excitement-about-on-12-jun-2024-630-pm-830-pm/
LOCATION:Happy Moment\, 6/F\, Infinitus Plaza\, 199 Des Voeux Road Central\, Hong Kong\, Hong Kong
CATEGORIES:Coach Development,Events calender
ATTACH;FMTTYPE=image/jpeg:https://coachinghk.com/wp-content/uploads/2024/05/fc01c6e0-9149-234d-f6e1-aa15723151b5.jpg
ORGANIZER;CN="HKICC":MAILTO:info@coachinghk.com
END:VEVENT
END:VCALENDAR