BEGIN:VCALENDAR
VERSION:2.0
PRODID:-//Hong Kong International Coaching Community - ECPv6.15.20//NONSGML v1.0//EN
CALSCALE:GREGORIAN
METHOD:PUBLISH
X-WR-CALNAME:Hong Kong International Coaching Community
X-ORIGINAL-URL:https://coachinghk.com
X-WR-CALDESC:Events for Hong Kong International Coaching Community
REFRESH-INTERVAL;VALUE=DURATION:PT1H
X-Robots-Tag:noindex
X-PUBLISHED-TTL:PT1H
BEGIN:VTIMEZONE
TZID:Asia/Hong_Kong
BEGIN:STANDARD
TZOFFSETFROM:+0800
TZOFFSETTO:+0800
TZNAME:HKT
DTSTART:20230101T000000
END:STANDARD
END:VTIMEZONE
BEGIN:VEVENT
DTSTART;TZID=Asia/Hong_Kong:20240822T183000
DTEND;TZID=Asia/Hong_Kong:20240822T203000
DTSTAMP:20260425T190534
CREATED:20240806T052331Z
LAST-MODIFIED:20240806T052331Z
UID:10000027-1724351400-1724358600@coachinghk.com
SUMMARY:Coaching Lifecycle Series : 1 - Chemistry meetings - Top tips to being successful at Chemistry meetings at 6:30pm - 8:30pm on Aug 22\, 2024 Thursday
DESCRIPTION:Launch of Special Interest Groups (SIGs) \nThanks to everyone who’ve indicated their interests in co-developing the three SIGs by completing the survey. We will be contacting you shortly to start forming these groups.\n \nFirst event to launch the Coaching Lifecycle series – Chemistry meetings – Top tips to being successful at chemistry meetings \nCoaching Lifecycle Series 1 – Chemistry meetings \nTop tips to being successful at Chemistry meetings \nAug 22\, 2024 Thursday 6:30pm – 8:30pm \nOnline Zoom Conference \n  \nIn the first Coaching Lifecycle series\, we shall begin at the top of many coaches’ wish list – to conduct better chemistry meetings. In this interactive gathering\, Leona Wan (MCC) shall share her top tips distilled from her years of experience in conducting successful and not-so-successful chemistry meetings and also invite participants to share their tips too. The combined wisdom of all the coaches will surely help you to become more assured and successful in this all important first interaction with your clients. \nFacilitator\nLeona Wan\, ICF-MCC\, is one of the founders of the “Positive Coach Leader Program”.  She is a passionate coach and learning facilitator. Leona specializes in inspiring her clients to deliver their personal best. In her most recent appointments\, she supports her clients to achieve their next successes.\n \nLeona draws from a corporate experience of 20+ years\, including senior leadership roles in financial services and frontline operations. Leona followed her passion and left her corporate appointment in 2007 to be a full-time coach and facilitator. Since 2015\, Leona has become a trainer and mentor for professional coaches. She is also a resilience and sustainability collaborator.  She works with leaders of MNCs in APAC region.  Her industry experience includes Pharmaceutical\, Banking\, Insurance\, Retail\, Technology\, Logistics\, Public Utilities\, Events Management\, Hospitality and Property Management.\n \nLeona engages her clients with a warm and open style.  She impresses her audience with her positive energy during her engagement. Leona’s recent initiative is to promote “Positive Relationships at Workplace”. Her interests include fostering well-being and world peace. In 2017\, she started a “Positive 100 Days” initiative with her colleagues to create ripple effects for world peace. And in 2021\, she launched a bilingual YouTube channel promoting “Positivity”.\n \nDate: 22 Aug 2024 (Thur)\nTime: 6:30p.m. – 8:30 p.m.\nFormat: Online Zoom (link will be sent out one day prior to event date)\nFee: Early Bird\, on or before 8 Aug 2024 \nHKICC Members : HK$120 (Early Bird HK$100) \nNon-HKICC Members : HK$250 (Early Bird HK$200) \n  \nPhoto source: https://www.solutionsacademy.com/blog/the-short-guide-to-great-chemistry-meetings
URL:https://coachinghk.com/event/coaching-lifecycle-series-1-chemistry-meetings-top-tips-to-being-successful-at-chemistry-meetings-at-630pm-830pm-on-aug-22-2024-thursday/
CATEGORIES:Coach Development,Events calender
ATTACH;FMTTYPE=image/png:https://coachinghk.com/wp-content/uploads/2024/08/19435b40-52b3-2b29-bee1-8773c9e72d99.png
ORGANIZER;CN="HKICC":MAILTO:info@coachinghk.com
LOCATION:
END:VEVENT
END:VCALENDAR