BEGIN:VCALENDAR
VERSION:2.0
PRODID:-//Hong Kong International Coaching Community - ECPv6.15.20//NONSGML v1.0//EN
CALSCALE:GREGORIAN
METHOD:PUBLISH
X-ORIGINAL-URL:https://coachinghk.com
X-WR-CALDESC:Events for Hong Kong International Coaching Community
REFRESH-INTERVAL;VALUE=DURATION:PT1H
X-Robots-Tag:noindex
X-PUBLISHED-TTL:PT1H
BEGIN:VTIMEZONE
TZID:Asia/Hong_Kong
BEGIN:STANDARD
TZOFFSETFROM:+0800
TZOFFSETTO:+0800
TZNAME:HKT
DTSTART:20230101T000000
END:STANDARD
END:VTIMEZONE
BEGIN:VEVENT
DTSTART;TZID=Asia/Hong_Kong:20241017T183000
DTEND;TZID=Asia/Hong_Kong:20241017T200000
DTSTAMP:20260423T153846
CREATED:20240923T074547Z
LAST-MODIFIED:20240925T071447Z
UID:10000029-1729189800-1729195200@coachinghk.com
SUMMARY:Coaching Collective Intelligence with Eleven Dots on Oct 17\, 2024\, Thursday\, 6:30pm - 8:00pm
DESCRIPTION:Coaching Collective Intelligence with Eleven Dots \nOct 17\, 2024 Thursday 6:30pm – 8:00pm \nVirtual Event \nDiscover Eleven Dots for Collective Intelligence\nA unique approach to make first steps into effective team coaching\n \nGlobal interest in team coaching has been thriving in organizations for the last 5 years. In France\, this approach has been practiced\, developed and studied for 30 years with authors as Michel Moral\, Florence Lamy\, Alain Cardon and Vincent Lenhardt.\n \nCollective Intelligence can be defined as the ability for a group of humans to reach their goals with maximum well-being of the members and high level of creativity to adapt to an ever-changing environment.\n \nThe question is: how to improve a group’s Collective Intelligence?\nWhat are the practical levers one can operate to make the first steps in that direction?\n \nThat is the purpose of the Eleven Dots for Collective Intelligence approach.\nIt is an excellent way for a team and for a coach to make their first steps into team coaching.\n \nFounded on the principle of a human collective considered as a living organism\, 11 Dots was invented in 2014 by Florence Lamy (EMCC Global Team Coaching Award 2022\,\nEMCC Global Supervision Award 2018).\n \nConsolidated by field experience\, recent international research on the subject\, and a unique approach inspired by the Ba Gang of Asian medicine\, this model makes it possible to establish in a particularly rapid manner a holistic\, systemic\, and systematic diagnosis of the collective intelligence of a team.\n \nIn this session we will cover \n\nBasics of team coaching and team diagnosis\nWhat is Organic Collective Intelligence\nEleven Dots for Collective Intelligence: sources\, organization\nExample of real-world application\nOpen Q and A\n\n \nSpeakers\nAntoine Chevet is a professional Coach and Supervisor -ESQA- based in Paris France.\nHe has been working with Florence Lamy for past years to give life to the latest version of Eleven Dots and develop the 11 dots practitioner community.\nHe contributed to books on the future of supervision (chapter on AI written with David Clutterbuck) and on alliance in supervision (extra-remote supervision). \n\nEmmanuelle Le Strat is a professional coach based in Paris.\nEmmanuelle is a certified Executive Coach\, specialized in executive coaching for leaders\, managers and their teams; she is also a certified professional trainer (Management/leadership\, client expectations\, sales…) and a graphic recorder.\nCertified practitioner of the Elevendots’ community\, she’s passionate about collective intelligence. \nTakeaways: \n\nKnow more about collective intelligence\nReflect on expression of coaching needs of a team\nDiscover a step-by-step practical method\nExperience concrete application in mini-workshop\n\n\nTarget audience: \n\nCoaches interested by collective intelligence\nExperienced team coaches\nLeaders and managers interested in improving their teams’ collective intelligence\n\n\nDate: 17 Oct 2024 (Thur)\nTime: 6:30p.m. – 8:00 p.m.\nVenue: Virtual Event (link will be sent out one day prior to event date) \nFee: Early Bird\, on or before 3 Oct 2024 \nHKICC Members : HK$120 (Early Bird HK$100) \nNon-HKICC Members : HK$250 (Early Bird HK$200)
URL:https://coachinghk.com/event/coaching-collective-intelligence-with-eleven-dots-on-oct-17-2024-thursday-630pm-800pm/
CATEGORIES:Coach Development,Events calender
ATTACH;FMTTYPE=image/png:https://coachinghk.com/wp-content/uploads/2024/09/838286ce-cbe0-cf18-0bcd-b13363414712.png
ORGANIZER;CN="HKICC":MAILTO:info@coachinghk.com
LOCATION:
END:VEVENT
END:VCALENDAR