BEGIN:VCALENDAR
VERSION:2.0
PRODID:-//Hong Kong International Coaching Community - ECPv6.15.20//NONSGML v1.0//EN
CALSCALE:GREGORIAN
METHOD:PUBLISH
X-ORIGINAL-URL:https://coachinghk.com
X-WR-CALDESC:Events for Hong Kong International Coaching Community
REFRESH-INTERVAL;VALUE=DURATION:PT1H
X-Robots-Tag:noindex
X-PUBLISHED-TTL:PT1H
BEGIN:VTIMEZONE
TZID:Asia/Hong_Kong
BEGIN:STANDARD
TZOFFSETFROM:+0800
TZOFFSETTO:+0800
TZNAME:HKT
DTSTART:20240101T000000
END:STANDARD
END:VTIMEZONE
BEGIN:VEVENT
DTSTART;TZID=Asia/Hong_Kong:20250828T190000
DTEND;TZID=Asia/Hong_Kong:20250828T203000
DTSTAMP:20260422T225003
CREATED:20250807T015027Z
LAST-MODIFIED:20250825T014100Z
UID:10000037-1756407600-1756413000@coachinghk.com
SUMMARY:The Hero’s Journey: Coaching Beyond the Conscious from 7:00pm to 8:30pm on 28 Aug 2025
DESCRIPTION:The Hero’s Journey:\nCoaching Beyond the Conscious: \nDiscover how to access the unconscious patterns that \ndrive clients—and yourself—using the Hero’s Journey and the House of Self\n  \nDate: 28 Aug 2025 | Time: 7:00pm to 8:30pm |  \nVenue: Love Express\, 12/F Amber Commercial Building\, 70-74 Morrison Hill Road\, Causeway Bay\, Hong Kong \n  \nIn the next two sessions of our Coaching Beyond the GROW Model series\, we invite you on an inner journey to explore the deeper layers of personal insight and transformation. \nMany coaches sense that their own and their clients’ behaviours are shaped by deeper\, often unconscious forces—but may feel unsure how to safely explore those layers\, or wish they had tools to go there with more confidence. These sessions offer a powerful\, experiential introduction to how the less rational\, more hidden parts of the self can be understood\, engaged\, and integrated. \nThis is not a certification\, but a provocative and interactive taster of what’s possible. The sessions draw on the timeless framework of the Hero’s Journey and the House of Self—a practical and original model developed by Henry Chamberlain\, designed to make the internal world more visible\, relatable\, and coachable. \nFacilitated by transformational coaches and psychologists Henry Chamberlain and Steve Wu\, these in-person sessions will offer accessible\, thought-provoking ways to explore what really drives your thoughts\, choices\, and coaching presence. \nNote that this is a two-part in-person series\, and participants are strongly encouraged to attend both sessions to gain the full value of the journey. \nNo prior knowledge of psychology is needed—just curiosity. You’ll leave with fresh insights\, simple practices\, and a glimpse of how these models could deepen your own development and enrich your future coaching work. \nEvent Details: \n📅 Date:  28th Aug\, 2025 \n🕒 Time: 7:00pm to 8:30pm \n📍 Venue: Love Express\, 12/F Amber Commercial Building\, 70-74 Morrison Hill Road\, Causeway Bay\, Hong Kong \nFee: Early Bird on or before 14 Aug 2025 \n* Ticket fee for 1 session in Aug \nHKICC Members : HK$150 (Early Bird HK$120) \nHKICC Members Tickets for 2 (10% off) : HK$270 (Early Bird HK$216) \nNon-HKICC Members : HK$250 (Early Bird HK$200) \nNon-HKICC Members Tickets for 2 (10% off) : HK$450 (Early Bird HK$360) \n* Ticket fee for 2 sessions in Aug and Sep (24 Sep 7:00pm-8:30pm after AGM) \nHKICC Members : HK$243 (Early Bird HK$216) \nHKICC Members Tickets for 2 (10% off) : HK$486 (Early Bird HK$432) \nNon-HKICC Members : HK$405 (Early Bird HK$360) \nNon-HKICC Members Tickets for 2 (10% off) : HK$810 (Early Bird HK$720) \n🎤 Facilitators: Steve Wu (Executive Coach (PCC) & I/O Psychologist) \n                           Henry Chamberlain (Transformational Coach (PCC) & I/O Psychologist) \n  \n \nSteve is an Executive Coach and Occupational Psychologist known for his maturity\, depth\, and presence well beyond his years. With a strong foundation in psychology and advanced training in modalities such as Acceptance and Commitment Therapy (ACT) and Internal Family Systems (IFS)\, Steve brings a rare blend of insight\, empathy\, and precision to his coaching. He has worked with emerging and senior leaders across sectors and served as a lead coach in a powerful women’s leadership programme for young Lawyers in an international law firm.  As senior member of the HCC Global team\, Steve co-facilitates ICF-accredited coach certification and advanced coaching workshops\, supporting coaches and leaders in developing grounded self-awareness and impactful presence. Clients consistently experience him as a calm and trustworthy guide—able to challenge with clarity\, connect with compassion\, and support transformation in a way that feels both practical and profound. \n  \nHenry is an occupational psychologist and transformational coach with over 30 years of experience in human development. His work bridges psychology and coaching in ways that make deep change accessible and meaningful for high-functioning individuals. With a rare combination of psychological insight\, intuition\, and presence\, Henry helps clients access both conscious and unconscious drivers of change—moving beyond behavior into transformation. He is known for his ability to name what others won’t\, and to hold a space that is both compassionate and catalytic. His coaching is not about action plans or performance goals\, but about helping people see the truth they are ready to see—because once that happens\, change becomes inevitable. In his upcoming workshop\, Henry will guide participants through his integrative House of Self model and the mythic structure of the Hero’s Journey\, inviting coaches to explore the deeper territory of self and system\, where transformation begins. 
URL:https://coachinghk.com/event/the-heros-journey-coaching-beyond-the-conscious-from-700pm-to-830-pm-on-28-aug-2025/
LOCATION:Love Express\, 12/F Amber Commercial Building\, 70-74 Morrison Hill Road\, Causeway Bay\, HK\, Love Express\, 12/F Amber Commercial Building\, 70-74 Morrison Hill Road\, Causeway Bay\, Hong Kong\, Hong Kong
CATEGORIES:Coach Development,Events calender
ATTACH;FMTTYPE=image/png:https://coachinghk.com/wp-content/uploads/2025/08/HCC-Heros-journey.png
ORGANIZER;CN="HKICC":MAILTO:info@coachinghk.com
END:VEVENT
END:VCALENDAR