BEGIN:VCALENDAR
VERSION:2.0
PRODID:-//Hong Kong International Coaching Community - ECPv6.15.20//NONSGML v1.0//EN
CALSCALE:GREGORIAN
METHOD:PUBLISH
X-WR-CALNAME:Hong Kong International Coaching Community
X-ORIGINAL-URL:https://coachinghk.com
X-WR-CALDESC:Events for Hong Kong International Coaching Community
REFRESH-INTERVAL;VALUE=DURATION:PT1H
X-Robots-Tag:noindex
X-PUBLISHED-TTL:PT1H
BEGIN:VTIMEZONE
TZID:Asia/Hong_Kong
BEGIN:STANDARD
TZOFFSETFROM:+0800
TZOFFSETTO:+0800
TZNAME:HKT
DTSTART:20250101T000000
END:STANDARD
END:VTIMEZONE
BEGIN:VEVENT
DTSTART;TZID=Asia/Hong_Kong:20260507T183000
DTEND;TZID=Asia/Hong_Kong:20260507T200000
DTSTAMP:20260423T135134
CREATED:20260420T103244Z
LAST-MODIFIED:20260420T103244Z
UID:10000054-1778178600-1778184000@coachinghk.com
SUMMARY:HKICC Coaching Book Club #3 - An exploration into the Coaching Mindset on 7 May 2026 from 6:30pm to 8:00pm
DESCRIPTION:HKICC Coaching Book Club #3\nAn exploration into the Coaching Mindset \nDate: 7 May 2026 | Time: 6:30pm to 8:00pm | Venue: TBC \n  \nWe as coaches like to think the GROW model as coaching practice 1.0. \nGROW model (Whitmore et al.) \nwas developed in the 1980s from executive coaching practice (often credited to Graham Alexander\, Alan Fine\, and later popularized by Sir John Whitmore). It is a practical coaching framework to structure conversations that help coachees set goals\, explore reality\, generate options\, and commit to actions. It’s an applied tool for performance improvement and behavior change. \nGROWTH MINDSET was developed from research by renowned psychologist Carol Dweck and colleagues in the 1990s/2000s. It is about beliefs: people who see abilities as developable (growth mindset) vs. fixed traits (fixed mindset). It explains how beliefs about intelligence or talent shape motivation\, learning\, and response to setbacks. \nIn our next HKICC Coaching Book Club\, Alex Fong will explore with us how Carol Dweck’s landmark work in Psychology Growth Mindset can work to support the GROW model in our coaching practice. \nBringing the two together will be a good example of how theory can inform practice and vice versa . As a scholar practitioner \, Alex is in a good position to explore with us how the two can be deployed to help us turn the lens inward — to examine the quiet\, often invisible beliefs that shape how we listen\, how we respond\, as we hold ourselves back or propel ourselves forward as coaches as we practise the GROW model. \nWhat to Expect \n\nHonest self-inquiry: What does your own mindset tell you about challenge\, failure\, and feedback? Where do you default to “fixed” thinking without noticing?\nPractical application: How do your mindsets show up in real coaching conversations — with clients who are stuck\, with colleagues\, or with yourself?\nChallenges on support : How does our own mindset affects our ability to support reflection that would lead to genuine shift\, not just intellectual agreement.\nCommunity learning: As always\, the real gold comes from the perspectives around the table — coaches at different stages\, bringing different stories and struggles.\n\nWhy This Session Matters for Coaches \nWe spend so much time helping clients shift their mindsets. But when was the last time you sat with your own? \n\nWhat do you believe about your own capacity to grow?\nHow might expanding your own mindset unlock new presence\, patience\, and possibility in your coaching?\n\nThis is not about getting it right. It’s about getting curious — together. \nJoin Us. \nBook: Mindset by Carol Dweck \n(no need to have finished it — just bring your willingness to reflect) \nCome ready to be challenged\, supported\, and seen. Whether you’ve read the book twice or just heard about it\, you are warmly welcome. \nBecause the most important mindset to explore… is your own. \n  \nEvent Details: \n📅 Date: 7th May\, 2026 \n🕒 Time: 6:30pm to 8:00pm \n📍 Venue: TBC \nFee: Early Bird on or before 23 Apr 2026 \nHKICC Members : HK$150 (Early Bird HK$120) \nHKICC Members Tickets for 2 (Extra 10% off) : HK$270 (Early Bird HK$216) \nNon-HKICC Members : HK$250 (Early Bird HK$200) \nNon-HKICC Members Tickets for 2 (Extra 10% off) : HK$450 (Early Bird HK$360) \nParticipants are to purchase their own book (physical or kindle) and ticket prices do not include cost of book purchase \nHost \nAlex Fong \nAlex’s multi‑faceted role as a strategist\, entrepreneur\, professor\, and coach helps him connects strategy to execution\, ideas to markets\, and people to purpose — as a leadership coach\, angel investor\, adjunct professor\, and founder of Tapping Point — helping organisations\, founders\, and teams scale responsibly and turn ambition into measurable\, sustainable impact. \n  \nSign up Here
URL:https://coachinghk.com/event/hkicc-coaching-book-club-3-an-exploration-into-the-coaching-mindset-on-7-may-2026-from-630pm-to-800pm/
CATEGORIES:Coach Development,Events calender
ATTACH;FMTTYPE=image/png:https://coachinghk.com/wp-content/uploads/2026/04/5caf2368-7ff7-b708-5532-f2ea63665fcb.png
ORGANIZER;CN="HKICC":MAILTO:info@coachinghk.com
END:VEVENT
END:VCALENDAR