BEGIN:VCALENDAR
VERSION:2.0
PRODID:-//Hong Kong International Coaching Community - ECPv6.15.20//NONSGML v1.0//EN
CALSCALE:GREGORIAN
METHOD:PUBLISH
X-WR-CALNAME:Hong Kong International Coaching Community
X-ORIGINAL-URL:https://coachinghk.com
X-WR-CALDESC:Events for Hong Kong International Coaching Community
REFRESH-INTERVAL;VALUE=DURATION:PT1H
X-Robots-Tag:noindex
X-PUBLISHED-TTL:PT1H
BEGIN:VTIMEZONE
TZID:Asia/Hong_Kong
BEGIN:STANDARD
TZOFFSETFROM:+0800
TZOFFSETTO:+0800
TZNAME:HKT
DTSTART:20230101T000000
END:STANDARD
END:VTIMEZONE
BEGIN:VEVENT
DTSTART;TZID=Asia/Hong_Kong:20241213T180000
DTEND;TZID=Asia/Hong_Kong:20241213T210000
DTSTAMP:20260423T183947
CREATED:20231030T131858Z
LAST-MODIFIED:20241212T083636Z
UID:10000019-1734112800-1734123600@coachinghk.com
SUMMARY:Christmas Gathering on 13 Dec 2024\, Friday\, from 6:00 pm to 9:00 pm
DESCRIPTION:
URL:https://coachinghk.com/event/pan-coaching-community-christmas-party/
LOCATION:Lady M\, Lady M\, 1/F Hong Kong Jockey Club\, 10-12 Stanley Street\, Central\, Hong Kong\, Hong Kong
CATEGORIES:Coach Development,Events calender
ATTACH;FMTTYPE=image/jpeg:https://coachinghk.com/wp-content/uploads/2023/10/7f471889-6572-45ed-88a2-fc6f642fad1f.jpg
ORGANIZER;CN="HKICC":MAILTO:info@coachinghk.com
END:VEVENT
END:VCALENDAR