BEGIN:VCALENDAR
VERSION:2.0
PRODID:-//Hong Kong International Coaching Community - ECPv6.15.20//NONSGML v1.0//EN
CALSCALE:GREGORIAN
METHOD:PUBLISH
X-WR-CALNAME:Hong Kong International Coaching Community
X-ORIGINAL-URL:https://coachinghk.com
X-WR-CALDESC:Events for Hong Kong International Coaching Community
REFRESH-INTERVAL;VALUE=DURATION:PT1H
X-Robots-Tag:noindex
X-PUBLISHED-TTL:PT1H
BEGIN:VTIMEZONE
TZID:Asia/Hong_Kong
BEGIN:STANDARD
TZOFFSETFROM:+0800
TZOFFSETTO:+0800
TZNAME:HKT
DTSTART:20240101T000000
END:STANDARD
END:VTIMEZONE
BEGIN:VEVENT
DTSTART;TZID=Asia/Hong_Kong:20250625T190000
DTEND;TZID=Asia/Hong_Kong:20250625T203000
DTSTAMP:20260423T055313
CREATED:20250605T014454Z
LAST-MODIFIED:20250613T133712Z
UID:10000036-1750878000-1750883400@coachinghk.com
SUMMARY:Wellness Coaching: Expanding Your Coaching Toolkit on 25 Jun 2025\, 7:00pm - 8:30pm
DESCRIPTION:Wellness Coaching: Expanding Your Coaching Toolkit\n  \nDate: 25 Jun 2025 | Time: 7pm to 8:30pm \nVenue: Love Express\, 12/F Amber Commercial Building\, 70-74 Morrison Hill Road\, Causeway Bay\, Hong Kong \n  \nDear Coaches\, \nWe are excited to invite you to the second event in our “Beyond the GROW Model” series — a new HKICC initiative designed for coaches who want to stretch their skills\, deepen their practice\, and explore advanced coaching topics. \nOur next speaker is Dr Clara To\, a registered psychologist and coach with deep expertise in coaching\, leadership assessment\, and development. Join us for a dynamic 90-minute session on Wellness Coaching — a specialty area grounded in behavioral science\, positive psychology\, and the art of transformational change. \nThis is more than a niche — it’s a powerful way to help clients take charge of their energy\, health\, and whole-person wellbeing. \nThis session is ideal for new and developing coaches who are curious about: \n\nWhat wellness coaching is really about                                                                                                                        – What distinguishes wellness coaching from life or executive coaching\nHow to integrate wellness principles into your current coaching approach\nHow to support sustainable change without giving advice\n\nWhether you’re considering wellness coaching as a specialization or simply looking to broaden your coaching lens\, this session will offer fresh insights and practical tools to help you grow as a coach. \nWith a PhD in psychology and certification from Wellcoaches\, Dr To will guide you through evidence-based frameworks\, mindset shifts\, and interactive exercises that reflect the essence of this transformational approach. \nTarget audience: \nCoaches of all levels who are curious about wellness coaching or looking to expand their toolkit to support clients’ holistic wellbeing. \nEvent Details: \n📅 Date:  217th May\, 2025 \n🕒 Time: 7:00pm to 8:30pm \n📍 Venue: Love Express\, 12/F Amber Commercial Building\, 70-74 Morrison Hill Road\, Causeway Bay\, Hong Kong \n🎤 Facilitator: Dr Clara To\, Registered Psychologist & Certified Wellness Coach \nClara To is a management psychologist\, executive coach\, and wellness coach with extensive experience supporting senior leaders at Fortune 500 companies across the Asia Pacific\, the Middle East\, and Europe. Her industry expertise encompasses aviation\, finance\, pharmaceuticals\, the public sector\, and more.\n \nThroughout her career\, Clara has led initiatives that integrate psychological insights with practical coaching strategies to promote sustainable leadership and organizational well-being. Her coaching combines principles of psychological science with a holistic approach to well-being\, enabling leaders to enhance their performance\, resilience\, and personal growth. Clara has also lectured at several universities in the region and mentored young psychologists and interns.\n \nShe is a Registered Industrial-Organizational Psychologist and Fellow of the HKPS\, and a Certified Health & Wellness Coach (Wellcoaches\, U.S.). \nFee: \n\n\n\nTicket Type\nEarly bird (by 11 Jun)\nRegular Price\n\n\nIndividual\nTickets for 2 (10% off)\nIndividual\nTickets for 2 (10% off)\n\n\nHKICC Members\n$120\n$216\n$150\n$270\n\n\nNon-HKICC Members\n$200\n$360\n$250\n$450
URL:https://coachinghk.com/event/wellness-coaching-expanding-your-coaching-toolkit-on-25-jun-2025-700pm-830pm/
LOCATION:Love Express\, 12/F Amber Commercial Building\, 70-74 Morrison Hill Road\, Causeway Bay\, HK\, Love Express\, 12/F Amber Commercial Building\, 70-74 Morrison Hill Road\, Causeway Bay\, Hong Kong\, Hong Kong
CATEGORIES:Coach Development
ATTACH;FMTTYPE=image/jpeg:https://coachinghk.com/wp-content/uploads/2025/06/unnamed-10-scaled.jpg
ORGANIZER;CN="HKICC":MAILTO:info@coachinghk.com
END:VEVENT
END:VCALENDAR